BEGIN:VCALENDAR
VERSION:2.0
PRODID:gruene-se-kv.de
METHOD:PUBLISH
BEGIN:VTIMEZONE
TZID:Europe/Berlin
X-LIC-LOCATION:Europe/Berlin
BEGIN:DAYLIGHT
TZOFFSETFROM:+0100
TZOFFSETTO:+0200
TZNAME:CEST
DTSTART:19700329T020000
RRULE:FREQ=YEARLY;INTERVAL=1;BYDAY=-1SU;BYMONTH=3
END:DAYLIGHT
BEGIN:STANDARD
TZOFFSETFROM:+0200
TZOFFSETTO:+0100
TZNAME:CET
DTSTART:19701025T030000
RRULE:FREQ=YEARLY;INTERVAL=1;BYDAY=-1SU;BYMONTH=10
END:STANDARD
END:VTIMEZONE
BEGIN:VEVENT
UID:59e966e95f2d1664e00d5f548368f803@gruene-se-kv.de
URL;VALUE=URI:https://gruene-se-kv.de/termine/kick-off-haustuerwahlkampf/
LOCATION:https://us02web.zoom.us/j/86229934474
SUMMARY:Kick-Off Haustürwahlkampf
DESCRIPTION;ALTREP="data:text/html,%0A%3Cp%3E%3Ca%20href%3D%22https%3A%2F
 %2Fus02web.zoom.us%2Fj%2F86229934474%22%3Ehttps%3A%2F%2Fus02web.zoom.us%2
 Fj%2F86229934474%3C%2Fa%3E%3C%2Fp%3E%0A":https://us02web.zoom.us/j/862299
 34474
CLASS:PUBLIC
DTSTART;TZID=Europe/Berlin:20240320T190000
DTEND;TZID=Europe/Berlin:20240320T200000
DTSTAMP:20260419T164915
END:VEVENT
END:VCALENDAR