BEGIN:VCALENDAR
VERSION:2.0
PRODID:gruene-se-kv.de
METHOD:PUBLISH
BEGIN:VTIMEZONE
TZID:Europe/Berlin
X-LIC-LOCATION:Europe/Berlin
BEGIN:DAYLIGHT
TZOFFSETFROM:+0100
TZOFFSETTO:+0200
TZNAME:CEST
DTSTART:19700329T020000
RRULE:FREQ=YEARLY;INTERVAL=1;BYDAY=-1SU;BYMONTH=3
END:DAYLIGHT
BEGIN:STANDARD
TZOFFSETFROM:+0200
TZOFFSETTO:+0100
TZNAME:CET
DTSTART:19701025T030000
RRULE:FREQ=YEARLY;INTERVAL=1;BYDAY=-1SU;BYMONTH=10
END:STANDARD
END:VTIMEZONE
BEGIN:VEVENT
UID:c6691cbed00b323227b63297b10c6eed@gruene-se-kv.de
URL;VALUE=URI:https://gruene-se-kv.de/termine/ortsvorstaendetreffen/
LOCATION:https://us02web.zoom.us/j/81280671340
SUMMARY:Ortsvorständetreffen
DESCRIPTION;ALTREP="data:text/html,%0A%3Cp%3EOrtsvorst%C3%A4ndetreffen%3C
 %2Fp%3E%0A%0A%0A%0A%3Cp%3E%3Ca%20href%3D%22https%3A%2F%2Fus02web.zoom.us%
 2Fj%2F81280671340%22%3Ehttps%3A%2F%2Fus02web.zoom.us%2Fj%2F81280671340%3C
 %2Fa%3E%3C%2Fp%3E%0A":Ortsvorständetreffen\n\nhttps://us02web.zoom.us/j/
 81280671340
CLASS:PUBLIC
DTSTART;TZID=Europe/Berlin:20240318T190000
DTEND;TZID=Europe/Berlin:20240318T200000
DTSTAMP:20260419T165406
END:VEVENT
END:VCALENDAR