BEGIN:VCALENDAR
VERSION:2.0
PRODID:gruene-se-kv.de
METHOD:PUBLISH
BEGIN:VTIMEZONE
TZID:Europe/Berlin
X-LIC-LOCATION:Europe/Berlin
BEGIN:DAYLIGHT
TZOFFSETFROM:+0100
TZOFFSETTO:+0200
TZNAME:CEST
DTSTART:19700329T020000
RRULE:FREQ=YEARLY;INTERVAL=1;BYDAY=-1SU;BYMONTH=3
END:DAYLIGHT
BEGIN:STANDARD
TZOFFSETFROM:+0200
TZOFFSETTO:+0100
TZNAME:CET
DTSTART:19701025T030000
RRULE:FREQ=YEARLY;INTERVAL=1;BYDAY=-1SU;BYMONTH=10
END:STANDARD
END:VTIMEZONE
BEGIN:VEVENT
UID:96584e2c53560391f4fbc95056caf7a3@gruene-se-kv.de
URL;VALUE=URI:https://gruene-se-kv.de/termine/gruener-runder-tisch-ov-bad
 -segeberg-ov-trave-land/
LOCATION:Regionalbüro, Bahnhofstraße 1-3, Bad Segeberg
SUMMARY:Grüner Runder Tisch (OV Bad Segeberg & OV Trave-Land)
DESCRIPTION;ALTREP="data:text/html,%3Cp%3EGr%C3%BCner%20Runder%20Tisch%20
 %28%C3%B6ffentlich%29%3Cbr%20%2F%3E%0AThema%3A%20Der%20Herrenwitz%20%E2%8
 0%93%20Austausch%20%C3%BCber%20Alltags-Sexismus%3Cbr%20%2F%3E%0ADonnersta
 g%2C%20den%2022.%20April%2C%2018%3A30%20bis%2020%3A00%20Uhr%3Cbr%20%2F%3E
 %0ARegionalb%C3%BCro%2C%20Bahnhofstra%C3%9Fe%201-3%2C%20Bad%20Segeberg%3C
 br%20%2F%3E%0ATermine%20f%C3%BCr%20die%20n%C3%A4chsten%20Gr%C3%BCnen%20Ru
 nden%20Tische%20%28Ort%20und%20Thema%20werden%20rechtzeitig%3Cbr%20%2F%3E
 %0Aangek%C3%BCndigt%29%3A%20Do%2028.5.%2C%20Mi%3C%2Fp%3E":Grüner Runder 
 Tisch (öffentlich)\n\nThema: Der Herrenwitz – Austausch über Alltags-
 Sexismus\n\nDonnerstag\, den 22. April\, 18:30 bis 20:00 Uhr\n\nRegionalb
 üro\, Bahnhofstraße 1-3\, Bad Segeberg\n\nTermine für die nächsten Gr
 ünen Runden Tische (Ort und Thema werden rechtzeitig\n\nangekündigt): D
 o 28.5.\, Mi
CLASS:PUBLIC
DTSTART;TZID=Europe/Berlin:20260422T183000
DTEND;TZID=Europe/Berlin:20260422T203000
DTSTAMP:20260420T232548
END:VEVENT
BEGIN:VEVENT
UID:535f6d993dd5983503df6c8559a5c3a6@gruene-se-kv.de
URL;VALUE=URI:https://gruene-se-kv.de/termine/kreisvorstandssitzung-2/
LOCATION:Zoom
SUMMARY:Kreisvorstandssitzung
DESCRIPTION;ALTREP="data:text/html,%3Cp%3Ehttps%3A%2F%2Fus02web.zoom.us%2
 Fj%2F81370894194%3C%2Fp%3E":https://us02web.zoom.us/j/81370894194
CLASS:PUBLIC
DTSTART;TZID=Europe/Berlin:20260423T190000
DTEND;TZID=Europe/Berlin:20260423T210000
DTSTAMP:20260420T232548
END:VEVENT
BEGIN:VEVENT
UID:2e5d9af41c5ad2cc353e9c1db533503b@gruene-se-kv.de
URL;VALUE=URI:https://gruene-se-kv.de/termine/ortsvorstaendetreffen-2/
LOCATION:Bürgerhaus Itzstedt, Segeberger Str. 45, 23845 Itzstedt
SUMMARY:Ortsvorständetreffen
DESCRIPTION;ALTREP="data:text/html,%3Cp%3EB%C3%BCrgerhaus%20Itzstedt%2C%2
 0Segeberger%20Str.%2045%2C%2023845%20Itzstedt%3C%2Fp%3E":Bürgerhaus Itzs
 tedt\, Segeberger Str. 45\, 23845 Itzstedt
CLASS:PUBLIC
DTSTART;TZID=Europe/Berlin:20260424T183000
DTEND;TZID=Europe/Berlin:20260424T203000
DTSTAMP:20260420T232548
END:VEVENT
BEGIN:VEVENT
UID:b47e2b0959077b1fa38bbf18a4077628@gruene-se-kv.de
URL;VALUE=URI:https://gruene-se-kv.de/termine/ortsvorstandssitzung-ov-tra
 ve-land/
LOCATION:
SUMMARY:Ortsvorstandssitzung (OV Trave-Land)
DESCRIPTION;ALTREP="data:text/html,%3Cp%3EEinladung%20zur%20Ortsvorstands
 sitzung%3Cbr%20%2F%3E%0ALiebe%20Ortsvorst%C3%A4nde%2C%20liebe%20Mitgliede
 r%2C%3Cbr%20%2F%3E%0Azu%20unserer%20mitgliederoffenen%20Ortsvorstandssitz
 ung%20am%2024.04.2026%20um%2019.00%20Uhr%20per%3Cbr%20%2F%3E%0AJitsi%20se
 id%20Ihr%20herzlich%20eingeladen%21%3Cbr%20%2F%3E%0ADer%20Jitsi-link%20la
 utet%3A%20https%3A%2F%2Fmeet.jit.si%2Fovtrave-land%3Cbr%20%2F%3E%0AAls%20
 Tagesordnung%20ist%20vorgesehen%3A%3Cbr%20%2F%3E%0A1.%20Begr%C3%BC%C3%9Fu
 ng%20und%20Formalia%3Cbr%20%2F%3E%0A2.%20Vorbereitung%20des%20Gr%C3%BCnen
 %20Runden%20Tisches%20zum%20Thema%20Windenergie%20mit%20Ulrike%3Cbr%20%2F
 %3E%0AT%C3%A4ck%3Cbr%20%2F%3E%0A3.%20Weitere%20Vorbereitung%20der%20Ortsm
 itgliederversammlung%20am%2029.04.2026%3Cbr%20%2F%3E%0A4.%20R%C3%BCckblic
 k%3A%20Agrar-Dialog%3Cbr%20%2F%3E%0A5.%20Einordnung%20der%20vergangenen%2
 0Landtagswahlen%3Cbr%20%2F%3E%0A6.%20Verschiedenes%3C%2Fp%3E":Einladung z
 ur Ortsvorstandssitzung\n\nLiebe Ortsvorstände\, liebe Mitglieder\,\n\nz
 u unserer mitgliederoffenen Ortsvorstandssitzung am 24.04.2026 um 19.00 U
 hr per\n\nJitsi seid Ihr herzlich eingeladen!\n\nDer Jitsi-link lautet: h
 ttps://meet.jit.si/ovtrave-land\n\nAls Tagesordnung ist vorgesehen:\n\n1.
  Begrüßung und Formalia\n\n2. Vorbereitung des Grünen Runden Tisches z
 um Thema Windenergie mit Ulrike\n\nTäck\n\n3. Weitere Vorbereitung der O
 rtsmitgliederversammlung am 29.04.2026\n\n4. Rückblick: Agrar-Dialog\n\n
 5. Einordnung der vergangenen Landtagswahlen\n\n6. Verschiedenes
CLASS:PUBLIC
DTSTART;TZID=Europe/Berlin:20260424T190000
DTEND;TZID=Europe/Berlin:20260424T200000
DTSTAMP:20260420T232548
END:VEVENT
BEGIN:VEVENT
UID:88fd178bc2eb78a9ca30aec63f529aa7@gruene-se-kv.de
URL;VALUE=URI:https://gruene-se-kv.de/termine/kreistagsfraktionssitzung-8
 /
LOCATION:
SUMMARY:Kreistagsfraktionssitzung
DESCRIPTION;ALTREP="data:text/html,%3Cp%3EOrt%3A%20Kreishaus%2C%20Rosenst
 r.%2028a%2C%20Bad%20Segeberg%20%3C%2Fp%3E":Ort: Kreishaus\, Rosenstr. 28a
 \, Bad Segeberg
CLASS:PUBLIC
DTSTART;TZID=Europe/Berlin:20260427T190000
DTEND;TZID=Europe/Berlin:20260427T220000
DTSTAMP:20260420T232548
END:VEVENT
BEGIN:VEVENT
UID:9625ab9e1dacbdd92f92ed081994ce5d@gruene-se-kv.de
URL;VALUE=URI:https://gruene-se-kv.de/termine/aufstellungsversammlung-wah
 lkreis-segeberg-ost-west/
LOCATION:Gasthof Todesfelde, Dorfstraße 27, 23826 Todesfelde
SUMMARY:Aufstellungsversammlung Wahlkreis Segeberg Ost & West
DESCRIPTION;ALTREP="data:text/html,%3Cp%3EDer%20Kreisverband%20Segeberg%2
 0von%20B%C3%BCndnis%2090%2FDie%20Gr%C3%BCnen%20l%C3%A4dt%20zur%20gemeinsa
 men%20Aufstellungsversammlung%20f%C3%BCr%20die%20Wahlkreise%20Segeberg%20
 Ost%20und%20Segeberg%20West%20zur%20Landtagswahl%20Schleswig-Holstein%202
 027%20ein.%3Cbr%20%2F%3E%0A%3Cbr%20%2F%3E%0AAuf%20der%20Versammlung%20w%C
 3%A4hlen%20die%20Mitglieder%20die%20Direktkandidat%2Ainnen%20f%C3%BCr%20d
 iese%20Wahlkreise.%3Cbr%20%2F%3E%0A%3Cbr%20%2F%3E%0A%3Cbr%20%2F%3E%0A%F0%
 9F%93%85%2028.%20April%202026%3Cbr%20%2F%3E%0A%F0%9F%95%A1%2018%3A30%20Uh
 r%3Cbr%20%2F%3E%0A%F0%9F%93%8D%20Gasthof%20Todesfelde%2C%20Dorfstra%C3%9F
 e%2027%2C%2023826%20Todesfelde%3Cbr%20%2F%3E%0A%3Cbr%20%2F%3E%0A%3C%2Fp%3
 E":Der Kreisverband Segeberg von Bündnis 90/Die Grünen lädt zur gemein
 samen Aufstellungsversammlung für die Wahlkreise Segeberg Ost und Segebe
 rg West zur Landtagswahl Schleswig-Holstein 2027 ein.\n\nAuf der Versamml
 ung wählen die Mitglieder die Direktkandidat*innen für diese Wahlkreise
 .\n\n📅 28. April 2026\n\n🕡 18:30 Uhr\n\n📍 Gasthof Todesfelde\, D
 orfstraße 27\, 23826 Todesfelde
CLASS:PUBLIC
DTSTART;TZID=Europe/Berlin:20260428T183000
DTEND;TZID=Europe/Berlin:20260428T203000
DTSTAMP:20260420T232548
END:VEVENT
BEGIN:VEVENT
UID:2fa510ad6d012db58e150ac377a374cf@gruene-se-kv.de
URL;VALUE=URI:https://gruene-se-kv.de/termine/ortsmitgliederversammlung-o
 v-trave-land/
LOCATION:Regionalbüro Bad Segeberg, Bahnhofstr. 1-3
SUMMARY:Ortsmitgliederversammlung (OV Trave-Land)
DESCRIPTION;ALTREP="data:text/html,%3Cp%3ELiebe%20Mitglieder%2C%3Cbr%20%2
 F%3E%0Azu%20unserer%20Ortsmitgliederversammlung%20am%2029.04.2026%20um%20
 19.00%20Uhr%20im%3Cbr%20%2F%3E%0ARegionalb%C3%BCro%20Bad%20Segeberg%2C%20
 Bahnhofstr.%201-3%2C%20seid%20Ihr%20herzlich%20eingeladen%21%3Cbr%20%2F%3
 E%0AAls%20Tagesordnung%20ist%20vorgesehen%3A%3Cbr%20%2F%3E%0A1.%20Begr%C3
 %BC%C3%9Fung%20und%20Formalia%3Cbr%20%2F%3E%0A2.%20Entlastung%20des%20Vor
 standes%3Cbr%20%2F%3E%0A3.%20Haushalt%202026%3Cbr%20%2F%3E%0A4.%20R%C3%BC
 ckblick%20und%20Berichte%3Cbr%20%2F%3E%0A5.%20Ausblick%20auf%20geplante%2
 0Veranstaltungen%3Cbr%20%2F%3E%0A6.%20Diskussion%20%C3%BCber%20die%20Satz
 ungs%C3%A4nderung%20der%20Bundespartei%3Cbr%20%2F%3E%0A7.%20Verschiedenes
 %3C%2Fp%3E":Liebe Mitglieder\,\n\nzu unserer Ortsmitgliederversammlung am
  29.04.2026 um 19.00 Uhr im\n\nRegionalbüro Bad Segeberg\, Bahnhofstr. 1
 -3\, seid Ihr herzlich eingeladen!\n\nAls Tagesordnung ist vorgesehen:\n\
 n1. Begrüßung und Formalia\n\n2. Entlastung des Vorstandes\n\n3. Hausha
 lt 2026\n\n4. Rückblick und Berichte\n\n5. Ausblick auf geplante Veranst
 altungen\n\n6. Diskussion über die Satzungsänderung der Bundespartei\n\
 n7. Verschiedenes
CLASS:PUBLIC
DTSTART;TZID=Europe/Berlin:20260429T190000
DTEND;TZID=Europe/Berlin:20260429T200000
DTSTAMP:20260420T232548
END:VEVENT
BEGIN:VEVENT
UID:95fc83b41799d8fcceb96269b062d3cd@gruene-se-kv.de
URL;VALUE=URI:https://gruene-se-kv.de/termine/gruenschnack-unterm-schirm-
 ov-kaltenkirchen-umland/
LOCATION:Marktplatz Holstenstraße, Kaltenkirchen (vor Budni)
SUMMARY:Grünschnack unterm Schirm (OV Kaltenkirchen & Umland)
DESCRIPTION;ALTREP="data:text/html,%3Cp%3E%F0%9F%93%85%20Samstag%2C%2002.
 05.2026%3Cbr%20%2F%3E%0A%F0%9F%95%98%2009%3A00%20%E2%80%93%2012%3A00%20Uh
 r%3Cbr%20%2F%3E%0A%F0%9F%93%8D%20Marktplatz%20Holstenstra%C3%9Fe%2C%20Kal
 tenkirchen%20%28vor%20Budni%29%3Cbr%20%2F%3E%0A%3Cbr%20%2F%3E%0AKommt%20v
 orbei%20zum%20offenen%20Austausch%20mit%20dem%20OV%20Kaltenkirchen%20%26a
 mp%3B%20Umland%20%E2%80%93%20wir%20freuen%20uns%20auf%20gute%20Gespr%C3%A
 4che%20mit%20euch%21%3C%2Fp%3E":📅 Samstag\, 02.05.2026\n\n🕘 09:00 
 – 12:00 Uhr\n\n📍 Marktplatz Holstenstraße\, Kaltenkirchen (vor Budn
 i)\n\nKommt vorbei zum offenen Austausch mit dem OV Kaltenkirchen & Umlan
 d – wir freuen uns auf gute Gespräche mit euch!
CLASS:PUBLIC
DTSTART;TZID=Europe/Berlin:20260502T090000
DTEND;TZID=Europe/Berlin:20260502T120000
DTSTAMP:20260420T232548
END:VEVENT
BEGIN:VEVENT
UID:7f9288a86b67d871c6b714fcbd731a05@gruene-se-kv.de
URL;VALUE=URI:https://gruene-se-kv.de/termine/gruenes-sonntagsfruehstueck
 -ov-bad-segeberg/
LOCATION:Café Ludwig`s, Kirchstraße, Bad Segeberg
SUMMARY:Grünes Sonntagsfrühstück (OV Bad Segeberg)
DESCRIPTION;ALTREP="data:text/html,%3Cp%3EGr%C3%BCnes%20Sonntagsfr%C3%BCh
 st%C3%BCck%20%28%C3%B6ffentlich%29%3Cbr%20%2F%3E%0ASonntag%2C%203.%20Mai%
 2C%2010%3A00%20bis%2012%3A00%20Uhr%3Cbr%20%2F%3E%0ACaf%C3%A9%20Ludwig%60s
 %2C%20Kirchstra%C3%9Fe%3C%2Fp%3E":Grünes Sonntagsfrühstück (öffentlic
 h)\n\nSonntag\, 3. Mai\, 10:00 bis 12:00 Uhr\n\nCafé Ludwig`s\, Kirchstr
 aße
CLASS:PUBLIC
DTSTART;TZID=Europe/Berlin:20260503T100000
DTEND;TZID=Europe/Berlin:20260503T120000
DTSTAMP:20260420T232548
END:VEVENT
BEGIN:VEVENT
UID:147e0f127d12d5f86311316e0d585579@gruene-se-kv.de
URL;VALUE=URI:https://gruene-se-kv.de/termine/waldspaziergang-zur-naturna
 hen-waldwirtschaft-und-zum-klimawandel-ov-bad-segeberg/
LOCATION:Altes Forstamt, Glashütte 4, Heidmühlen
SUMMARY:Waldspaziergang zur naturnahen Waldwirtschaft und zum Klimawandel
  (OV Bad Segeberg)
DESCRIPTION;ALTREP="data:text/html,%3Cp%3EWaldspaziergang%20zur%20naturna
 hen%20Waldwirtschaft%20und%20zum%20Klimawandel%3Cbr%20%2F%3E%0A%3Cbr%20%2
 F%3E%0A%F0%9F%93%8D%20Treffpunkt%3A%20Altes%20Forstamt%2C%20Glash%C3%BCtt
 e%204%2C%20Heidm%C3%BChlen%3Cbr%20%2F%3E%0ALeitung%3A%20Dr.%20Chris%20Fre
 ise%20%28Landesforsten%29%3Cbr%20%2F%3E%0AAnmeldung%3A%20traebing-butzman
 n%40t-online.de%3C%2Fp%3E":Waldspaziergang zur naturnahen Waldwirtschaft 
 und zum Klimawandel\n\n📍 Treffpunkt: Altes Forstamt\, Glashütte 4\, H
 eidmühlen\n\nLeitung: Dr. Chris Freise (Landesforsten)\n\nAnmeldung: tra
 ebing-butzmann@t-online.de
CLASS:PUBLIC
DTSTART;TZID=Europe/Berlin:20260508T150000
DTEND;TZID=Europe/Berlin:20260508T180000
DTSTAMP:20260420T232548
END:VEVENT
BEGIN:VEVENT
UID:0be28aecaccd947698cd4059ee5bc904@gruene-se-kv.de
URL;VALUE=URI:https://gruene-se-kv.de/termine/aufstellungsversammlung-wah
 lkreis-norderstedt/
LOCATION:
SUMMARY:Aufstellungsversammlung Wahlkreis Norderstedt
DESCRIPTION;ALTREP="data:text/html,%3Cp%3EDer%20Kreisverband%20Segeberg%2
 0l%C3%A4dt%20zur%20Aufstellungsversammlung%20f%C3%BCr%20den%20Wahlkreis%2
 0Norderstedt%20%28inkl.%20Tangstedt%29%20zur%20Landtagswahl%20Schleswig-H
 olstein%202027%20ein.%3Cbr%20%2F%3E%0A%3Cbr%20%2F%3E%0AAuf%20der%20Versam
 mlung%20w%C3%A4hlen%20die%20Mitglieder%20die%20Direktkandidat%2Ainnen%20f
 %C3%BCr%20diesen%20Wahlkreis.%3Cbr%20%2F%3E%0A%3Cbr%20%2F%3E%0AWeitere%20
 Informationen%20zum%20Veranstaltungsort%20folgen%20in%20K%C3%BCrze.%3Cbr%
 20%2F%3E%0A%3Cbr%20%2F%3E%0A%F0%9F%93%85%208.%20Mai%202026%3Cbr%20%2F%3E%
 0A%F0%9F%95%A1%2018%3A30%20%2F%2019%3A00%20Uhr%3Cbr%20%2F%3E%0A%F0%9F%93%
 8D%20Norderstedt%20%E2%80%93%20Ort%20wird%20noch%20bekannt%20gegeben%3Cbr
 %20%2F%3E%0A%3Cbr%20%2F%3E%0A%3C%2Fp%3E":Der Kreisverband Segeberg lädt 
 zur Aufstellungsversammlung für den Wahlkreis Norderstedt (inkl. Tangste
 dt) zur Landtagswahl Schleswig-Holstein 2027 ein.\n\nAuf der Versammlung 
 wählen die Mitglieder die Direktkandidat*innen für diesen Wahlkreis.\n\
 nWeitere Informationen zum Veranstaltungsort folgen in Kürze.\n\n📅 8.
  Mai 2026\n\n🕡 18:30 / 19:00 Uhr\n\n📍 Norderstedt – Ort wird noch
  bekannt gegeben
CLASS:PUBLIC
DTSTART;TZID=Europe/Berlin:20260508T183000
DTEND;TZID=Europe/Berlin:20260508T203000
DTSTAMP:20260420T232548
END:VEVENT
BEGIN:VEVENT
UID:c22e53ea2189074d9abb115534413cfa@gruene-se-kv.de
URL;VALUE=URI:https://gruene-se-kv.de/termine/kreistagsfraktionssitzung-1
 0/
LOCATION:
SUMMARY:Kreistagsfraktionssitzung
DESCRIPTION;ALTREP="data:text/html,%3Cp%3EOrt%3A%20Kreishaus%2C%20Rosenst
 r.%2028a%2C%20Bad%20Segeberg%20%3C%2Fp%3E":Ort: Kreishaus\, Rosenstr. 28a
 \, Bad Segeberg
CLASS:PUBLIC
DTSTART;TZID=Europe/Berlin:20260511T190000
DTEND;TZID=Europe/Berlin:20260511T220000
DTSTAMP:20260420T232548
END:VEVENT
BEGIN:VEVENT
UID:404aef929be95cd2166faf77c19a3eec@gruene-se-kv.de
URL;VALUE=URI:https://gruene-se-kv.de/termine/kreisvorstandssitzung-3/
LOCATION:Zoom
SUMMARY:Kreisvorstandssitzung
DESCRIPTION;ALTREP="data:text/html,%3Cp%3Ehttps%3A%2F%2Fus02web.zoom.us%2
 Fj%2F81370894194%3C%2Fp%3E":https://us02web.zoom.us/j/81370894194
CLASS:PUBLIC
DTSTART;TZID=Europe/Berlin:20260528T190000
DTEND;TZID=Europe/Berlin:20260528T210000
DTSTAMP:20260420T232548
END:VEVENT
BEGIN:VEVENT
UID:fc8e9ee19e67c9bc8cd5f763a45cd8a5@gruene-se-kv.de
URL;VALUE=URI:https://gruene-se-kv.de/termine/kreistagsfraktionssitzung-1
 2/
LOCATION:
SUMMARY:Kreistagsfraktionssitzung
DESCRIPTION;ALTREP="data:text/html,%3Cp%3EOrt%3A%20Kreishaus%2C%20Rosenst
 r.%2028a%2C%20Bad%20Segeberg%20%3C%2Fp%3E":Ort: Kreishaus\, Rosenstr. 28a
 \, Bad Segeberg
CLASS:PUBLIC
DTSTART;TZID=Europe/Berlin:20260601T190000
DTEND;TZID=Europe/Berlin:20260601T220000
DTSTAMP:20260420T232548
END:VEVENT
BEGIN:VEVENT
UID:2073c2f127871f4c44ca0719ca55bbbf@gruene-se-kv.de
URL;VALUE=URI:https://gruene-se-kv.de/termine/parteioffene-vorstandssitzu
 ng-ov-kaltenkirchen-umland/
LOCATION:Da Colins, Hamburger Str. 15, 24568 Kaltenkirchen
SUMMARY:Parteioffene Vorstandssitzung (OV Kaltenkirchen & Umland)
DESCRIPTION;ALTREP="data:text/html,%3Cp%3E%F0%9F%93%85%20Freitag%2C%2005.
 06.2026%3Cbr%20%2F%3E%0A%F0%9F%95%A0%2017%3A45%20Uhr%3Cbr%20%2F%3E%0A%F0%
 9F%93%8D%20Da%20Colins%2C%20Hamburger%20Str.%2015%2C%2024568%20Kaltenkirc
 hen%3Cbr%20%2F%3E%0A%3Cbr%20%2F%3E%0ADie%20Vorstandssitzung%20ist%20parte
 ioffen%20%E2%80%93%20interessierte%20G%C3%A4ste%20sind%20herzlich%20willk
 ommen%21%3C%2Fp%3E":📅 Freitag\, 05.06.2026\n\n🕠 17:45 Uhr\n\n📍 D
 a Colins\, Hamburger Str. 15\, 24568 Kaltenkirchen\n\nDie Vorstandssitzun
 g ist parteioffen – interessierte Gäste sind herzlich willkommen!
CLASS:PUBLIC
DTSTART;TZID=Europe/Berlin:20260605T174500
DTEND;TZID=Europe/Berlin:20260605T194500
DTSTAMP:20260420T232548
END:VEVENT
BEGIN:VEVENT
UID:0ea825aba3b6b59ec147ecbc5f0980a7@gruene-se-kv.de
URL;VALUE=URI:https://gruene-se-kv.de/termine/kreisvorstandssitzung/
LOCATION:
SUMMARY:Kreisvorstandssitzung
DESCRIPTION;ALTREP="data:text/html,%3Cp%3Eonline%3C%2Fp%3E":online
CLASS:PUBLIC
DTSTART;TZID=Europe/Berlin:20260611T190000
DTEND;TZID=Europe/Berlin:20260611T200000
DTSTAMP:20260420T232548
END:VEVENT
BEGIN:VEVENT
UID:c41bdff1f0f8eceebb172c52710b5a24@gruene-se-kv.de
URL;VALUE=URI:https://gruene-se-kv.de/termine/kreistagsfraktionssitzung-3
 /
LOCATION:
SUMMARY:Kreistagsfraktionssitzung
DESCRIPTION;ALTREP="data:text/html,%3Cp%3EOrt%3A%20Kreishaus%2C%20Rosenst
 r.%2028a%2C%20Bad%20Segeberg%20%3C%2Fp%3E":Ort: Kreishaus\, Rosenstr. 28a
 \, Bad Segeberg
CLASS:PUBLIC
DTSTART;TZID=Europe/Berlin:20260615T190000
DTEND;TZID=Europe/Berlin:20260615T220000
DTSTAMP:20260420T232548
END:VEVENT
BEGIN:VEVENT
UID:18b0be801853147b6d1d16602adce47e@gruene-se-kv.de
URL;VALUE=URI:https://gruene-se-kv.de/termine/sommertour-mit-konstantin-v
 on-notz-mdb-ov-norderstedt/
LOCATION:Norderstedt
SUMMARY:Sommertour mit Konstantin von Notz MdB (OV Norderstedt)
DESCRIPTION;ALTREP="data:text/html,%3Cp%3Egenaue%20Details%20folgen%3C%2F
 p%3E":genaue Details folgen
CLASS:PUBLIC
DTSTART;TZID=Europe/Berlin:20260619T190000
DTEND;TZID=Europe/Berlin:20260619T210000
DTSTAMP:20260420T232548
END:VEVENT
BEGIN:VEVENT
UID:b291cc708fa25bb1bda64ebb4f933c0d@gruene-se-kv.de
URL;VALUE=URI:https://gruene-se-kv.de/termine/landesparteitag/
LOCATION:
SUMMARY:Landesparteitag
DESCRIPTION;ALTREP="data:text/html,%3Cp%3E%3C%2Fp%3E":
CLASS:PUBLIC
DTSTART;TZID=Europe/Berlin:20260620
DTEND;TZID=Europe/Berlin:20260622
DTSTAMP:20260420T232548
END:VEVENT
BEGIN:VEVENT
UID:72d4ffe768be6ea098e342b6d1d3cc2b@gruene-se-kv.de
URL;VALUE=URI:https://gruene-se-kv.de/termine/kreistagsfraktionssitzung-7
 /
LOCATION:
SUMMARY:Kreistagsfraktionssitzung
DESCRIPTION;ALTREP="data:text/html,%3Cp%3EOrt%3A%20Kreishaus%2C%20Rosenst
 r.%2028a%2C%20Bad%20Segeberg%20%3C%2Fp%3E":Ort: Kreishaus\, Rosenstr. 28a
 \, Bad Segeberg
CLASS:PUBLIC
DTSTART;TZID=Europe/Berlin:20260622T190000
DTEND;TZID=Europe/Berlin:20260622T220000
DTSTAMP:20260420T232548
END:VEVENT
BEGIN:VEVENT
UID:117c2bf23987a3702e699cbc6b0615bc@gruene-se-kv.de
URL;VALUE=URI:https://gruene-se-kv.de/termine/kreismitgliederversammlung-
 sommerfest/
LOCATION:Begegnungsstätte Wahlstedt
SUMMARY:Kreismitgliederversammlung mit Listenvotum & Sommerfest
DESCRIPTION;ALTREP="data:text/html,%3Cp%3EAm%2027.%20Juni%202026%20findet
 %20die%20n%C3%A4chste%20Kreismitgliederversammlung%20%28KMV%29%20des%20Kr
 eisverbandes%20Segeberg%20statt.%3Cbr%20%2F%3E%0A%3Cbr%20%2F%3E%0AGeplant
 %20sind%20unter%20anderem%3A%3Cbr%20%2F%3E%0A%3Cbr%20%2F%3E%0AListenvotum
 %20f%C3%BCr%20die%20Landesliste%20zur%20Landtagswahl%202027%3Cbr%20%2F%3E
 %0A%3Cbr%20%2F%3E%0ADelegiertenwahlen%3Cbr%20%2F%3E%0A%3Cbr%20%2F%3E%0Awe
 itere%20organisatorische%20Punkte%20des%20Kreisverbandes%3Cbr%20%2F%3E%0A
 %3Cbr%20%2F%3E%0AIm%20Anschluss%20ist%20ein%20Sommerfest%20geplant.%3Cbr%
 20%2F%3E%0A%3Cbr%20%2F%3E%0AEine%20offizielle%20Einladung%20mit%20Tagesor
 dnung%20folgt%20rechtzeitig.%3Cbr%20%2F%3E%0A%3Cbr%20%2F%3E%0A%F0%9F%93%8
 5%2027.%20Juni%202026%3Cbr%20%2F%3E%0A%F0%9F%95%98%209%3A00%20%E2%80%93%2
 015%3A00%20Uhr%20%3F%20%28genaue%20Zeiten%20folgen%29%3Cbr%20%2F%3E%0A%F0
 %9F%93%8D%20Begegnungsst%C3%A4tte%20Wahlstedt%3Cbr%20%2F%3E%0A%3Cbr%20%2F
 %3E%0A%3C%2Fp%3E":Am 27. Juni 2026 findet die nächste Kreismitgliederver
 sammlung (KMV) des Kreisverbandes Segeberg statt.\n\nGeplant sind unter a
 nderem:\n\nListenvotum für die Landesliste zur Landtagswahl 2027\n\nDele
 giertenwahlen\n\nweitere organisatorische Punkte des Kreisverbandes\n\nIm
  Anschluss ist ein Sommerfest geplant.\n\nEine offizielle Einladung mit T
 agesordnung folgt rechtzeitig.\n\n📅 27. Juni 2026\n\n🕘 9:00 – 15:
 00 Uhr ? (genaue Zeiten folgen)\n\n📍 Begegnungsstätte Wahlstedt
CLASS:PUBLIC
DTSTART;TZID=Europe/Berlin:20260627
DTEND;TZID=Europe/Berlin:20260628
DTSTAMP:20260420T232548
END:VEVENT
BEGIN:VEVENT
UID:cfc0870c2801cab7d1154429fd26d4bd@gruene-se-kv.de
URL;VALUE=URI:https://gruene-se-kv.de/termine/kreisvorstandsklausur/
LOCATION:
SUMMARY:Kreisvorstandsklausur
DESCRIPTION;ALTREP="data:text/html,%3Cp%3E%3C%2Fp%3E":
CLASS:PUBLIC
DTSTART;TZID=Europe/Berlin:20260704
DTEND;TZID=Europe/Berlin:20260705
DTSTAMP:20260420T232548
END:VEVENT
BEGIN:VEVENT
UID:4572ff316d53b7e60f22a65dc128e075@gruene-se-kv.de
URL;VALUE=URI:https://gruene-se-kv.de/termine/kreisvorstandssitzung-6/
LOCATION:Zoom
SUMMARY:Kreisvorstandssitzung
DESCRIPTION;ALTREP="data:text/html,%3Cp%3Ehttps%3A%2F%2Fus02web.zoom.us%2
 Fj%2F81370894194%3C%2Fp%3E":https://us02web.zoom.us/j/81370894194
CLASS:PUBLIC
DTSTART;TZID=Europe/Berlin:20260723T190000
DTEND;TZID=Europe/Berlin:20260723T210000
DTSTAMP:20260420T232548
END:VEVENT
BEGIN:VEVENT
UID:b70611f3e1844c01d7ae4fd282a8c38d@gruene-se-kv.de
URL;VALUE=URI:https://gruene-se-kv.de/termine/gruenschnack-amt-leezen-ov-
 alsterland/
LOCATION:
SUMMARY:Grünschnack Amt Leezen (OV Alsterland)
DESCRIPTION;ALTREP="data:text/html,%3Cp%3EOrt%3A%20Bud%C3%B6rp%3Cbr%20%2F
 %3E%0A23816%20Leezen%3Cbr%20%2F%3E%0AUnsere%20regelm%C3%A4%C3%9Fige%20Ges
 pr%C3%A4chsrunde%20findet%20wieder%20statt.%20%3C%2Fp%3E":Ort: Budörp\n\
 n23816 Leezen\n\nUnsere regelmäßige Gesprächsrunde findet wieder statt
 .
CLASS:PUBLIC
DTSTART;TZID=Europe/Berlin:20260729T190000
DTEND;TZID=Europe/Berlin:20260729T200000
DTSTAMP:20260420T232548
END:VEVENT
BEGIN:VEVENT
UID:27d315dbc15cb655d2719838ae227d97@gruene-se-kv.de
URL;VALUE=URI:https://gruene-se-kv.de/termine/kreistagsfraktionssitzung/
LOCATION:
SUMMARY:Kreistagsfraktionssitzung
DESCRIPTION;ALTREP="data:text/html,%3Cp%3EOrt%3A%20Kreishaus%2C%20Rosenst
 r.%2028a%2C%20Bad%20Segeberg%20%3C%2Fp%3E":Ort: Kreishaus\, Rosenstr. 28a
 \, Bad Segeberg
CLASS:PUBLIC
DTSTART;TZID=Europe/Berlin:20260817T190000
DTEND;TZID=Europe/Berlin:20260817T220000
DTSTAMP:20260420T232548
END:VEVENT
BEGIN:VEVENT
UID:8ece9dfd903b9e5d87b2c6776b1f4cf9@gruene-se-kv.de
URL;VALUE=URI:https://gruene-se-kv.de/termine/kreisvorstandssitzung-4/
LOCATION:Zoom
SUMMARY:Kreisvorstandssitzung
DESCRIPTION;ALTREP="data:text/html,%3Cp%3Ehttps%3A%2F%2Fus02web.zoom.us%2
 Fj%2F81370894194%3C%2Fp%3E":https://us02web.zoom.us/j/81370894194
CLASS:PUBLIC
DTSTART;TZID=Europe/Berlin:20260827T190000
DTEND;TZID=Europe/Berlin:20260827T210000
DTSTAMP:20260420T232548
END:VEVENT
BEGIN:VEVENT
UID:ea38746c5045e688b38be7b76a4181cc@gruene-se-kv.de
URL;VALUE=URI:https://gruene-se-kv.de/termine/kreistagsfraktionssitzung-6
 /
LOCATION:
SUMMARY:Kreistagsfraktionssitzung
DESCRIPTION;ALTREP="data:text/html,%3Cp%3EOrt%3A%20Kreishaus%2C%20Rosenst
 r.%2028a%2C%20Bad%20Segeberg%20%3C%2Fp%3E":Ort: Kreishaus\, Rosenstr. 28a
 \, Bad Segeberg
CLASS:PUBLIC
DTSTART;TZID=Europe/Berlin:20260831T190000
DTEND;TZID=Europe/Berlin:20260831T220000
DTSTAMP:20260420T232548
END:VEVENT
BEGIN:VEVENT
UID:b84f7692cff4f879a332e791743945ff@gruene-se-kv.de
URL;VALUE=URI:https://gruene-se-kv.de/termine/kreistagsfraktionssitzung-4
 /
LOCATION:
SUMMARY:Kreistagsfraktionssitzung
DESCRIPTION;ALTREP="data:text/html,%3Cp%3EOrt%3A%20Kreishaus%2C%20Rosenst
 r.%2028a%2C%20Bad%20Segeberg%20%3C%2Fp%3E":Ort: Kreishaus\, Rosenstr. 28a
 \, Bad Segeberg
CLASS:PUBLIC
DTSTART;TZID=Europe/Berlin:20260914T190000
DTEND;TZID=Europe/Berlin:20260914T220000
DTSTAMP:20260420T232548
END:VEVENT
BEGIN:VEVENT
UID:22bbee57f56d82a6618c35b13491f840@gruene-se-kv.de
URL;VALUE=URI:https://gruene-se-kv.de/termine/kreisvorstandssitzung-5/
LOCATION:Zoom
SUMMARY:Kreisvorstandssitzung
DESCRIPTION;ALTREP="data:text/html,%3Cp%3Ehttps%3A%2F%2Fus02web.zoom.us%2
 Fj%2F81370894194%3C%2Fp%3E":https://us02web.zoom.us/j/81370894194
CLASS:PUBLIC
DTSTART;TZID=Europe/Berlin:20260924T190000
DTEND;TZID=Europe/Berlin:20260924T210000
DTSTAMP:20260420T232548
END:VEVENT
BEGIN:VEVENT
UID:e24fedc1a05cef69b916794f9becc4ed@gruene-se-kv.de
URL;VALUE=URI:https://gruene-se-kv.de/termine/kreistagsfraktionssitzung-5
 /
LOCATION:
SUMMARY:Kreistagsfraktionssitzung
DESCRIPTION;ALTREP="data:text/html,%3Cp%3EOrt%3A%20Kreishaus%2C%20Rosenst
 r.%2028a%2C%20Bad%20Segeberg%20%3C%2Fp%3E":Ort: Kreishaus\, Rosenstr. 28a
 \, Bad Segeberg
CLASS:PUBLIC
DTSTART;TZID=Europe/Berlin:20260928T190000
DTEND;TZID=Europe/Berlin:20260928T220000
DTSTAMP:20260420T232548
END:VEVENT
BEGIN:VEVENT
UID:21234bdf4cb41326d51661629aee6012@gruene-se-kv.de
URL;VALUE=URI:https://gruene-se-kv.de/termine/gruenschnack-amt-leezen-ov-
 alsterland-2/
LOCATION:
SUMMARY:Grünschnack Amt Leezen (OV Alsterland)
DESCRIPTION;ALTREP="data:text/html,%3Cp%3EEinladung%20zum%20Gr%C3%BCnen%2
 0Gr%C3%BCnschnack.%20%3Cbr%20%2F%3E%0AOrt%3A%20Bud%C3%B6rp%3Cbr%20%2F%3E%
 0A23816%20Leezen%3Cbr%20%2F%3E%0AUnsere%20regelm%C3%A4%C3%9Fige%20Gespr%C
 3%A4chsrunde%20findet%20wieder%20statt.%20%3C%2Fp%3E":Einladung zum Grün
 en Grünschnack.\n\nOrt: Budörp\n\n23816 Leezen\n\nUnsere regelmäßige 
 Gesprächsrunde findet wieder statt.
CLASS:PUBLIC
DTSTART;TZID=Europe/Berlin:20260930T190000
DTEND;TZID=Europe/Berlin:20260930T200000
DTSTAMP:20260420T232548
END:VEVENT
BEGIN:VEVENT
UID:82bda4a71ea7acedcc66ad51e8cefaab@gruene-se-kv.de
URL;VALUE=URI:https://gruene-se-kv.de/termine/kreistagsfraktionssitzung-9
 /
LOCATION:
SUMMARY:Kreistagsfraktionssitzung
DESCRIPTION;ALTREP="data:text/html,%3Cp%3EOrt%3A%20Kreishaus%2C%20Rosenst
 r.%2028a%2C%20Bad%20Segeberg%20%3C%2Fp%3E":Ort: Kreishaus\, Rosenstr. 28a
 \, Bad Segeberg
CLASS:PUBLIC
DTSTART;TZID=Europe/Berlin:20261005T190000
DTEND;TZID=Europe/Berlin:20261005T220000
DTSTAMP:20260420T232548
END:VEVENT
END:VCALENDAR